BEGIN:VCALENDAR
VERSION:2.0
PRODID:-//Henderson Tourist Commission - ECPv6.15.20//NONSGML v1.0//EN
CALSCALE:GREGORIAN
METHOD:PUBLISH
X-ORIGINAL-URL:https://hendersonky.org
X-WR-CALDESC:Events for Henderson Tourist Commission
REFRESH-INTERVAL;VALUE=DURATION:PT1H
X-Robots-Tag:noindex
X-PUBLISHED-TTL:PT1H
BEGIN:VTIMEZONE
TZID:America/Chicago
BEGIN:DAYLIGHT
TZOFFSETFROM:-0600
TZOFFSETTO:-0500
TZNAME:CDT
DTSTART:20250309T080000
END:DAYLIGHT
BEGIN:STANDARD
TZOFFSETFROM:-0500
TZOFFSETTO:-0600
TZNAME:CST
DTSTART:20251102T070000
END:STANDARD
BEGIN:DAYLIGHT
TZOFFSETFROM:-0600
TZOFFSETTO:-0500
TZNAME:CDT
DTSTART:20260308T080000
END:DAYLIGHT
BEGIN:STANDARD
TZOFFSETFROM:-0500
TZOFFSETTO:-0600
TZNAME:CST
DTSTART:20261101T070000
END:STANDARD
BEGIN:DAYLIGHT
TZOFFSETFROM:-0600
TZOFFSETTO:-0500
TZNAME:CDT
DTSTART:20270314T080000
END:DAYLIGHT
BEGIN:STANDARD
TZOFFSETFROM:-0500
TZOFFSETTO:-0600
TZNAME:CST
DTSTART:20271107T070000
END:STANDARD
END:VTIMEZONE
BEGIN:VEVENT
DTSTART;TZID=America/Chicago:20260425T083000
DTEND;TZID=America/Chicago:20260425T143000
DTSTAMP:20260423T061707
CREATED:20260413T191628Z
LAST-MODIFIED:20260413T191628Z
UID:10010435-1777105800-1777127400@hendersonky.org
SUMMARY:HCHS FFA Spring Plant Sale
DESCRIPTION:You’ll find vibrant new varieties\, full baskets\, and patio combinations designed to make a statement this spring.
URL:https://hendersonky.org/event/hchs-ffa-spring-plant-sale/
LOCATION:Henderson County High School\, Henderson\, KY 42420
CATEGORIES:Community Events,Featured Events
ATTACH;FMTTYPE=image/jpeg:https://hendersonky.org/wp-content/uploads/2026/04/648682862_1421381900023657_8996441070405868871_n-e1776107769532.jpg
GEO:37.8272101;-87.5598247
X-APPLE-STRUCTURED-LOCATION;VALUE=URI;X-ADDRESS=Henderson County High School Henderson KY 42420;X-APPLE-RADIUS=500;X-TITLE=Henderson\, KY 42420:geo:-87.5598247,37.8272101
END:VEVENT
END:VCALENDAR