BEGIN:VCALENDAR
VERSION:2.0
PRODID:-//Henderson Tourist Commission - ECPv6.15.20//NONSGML v1.0//EN
CALSCALE:GREGORIAN
METHOD:PUBLISH
X-WR-CALNAME:Henderson Tourist Commission
X-ORIGINAL-URL:https://hendersonky.org
X-WR-CALDESC:Events for Henderson Tourist Commission
REFRESH-INTERVAL;VALUE=DURATION:PT1H
X-Robots-Tag:noindex
X-PUBLISHED-TTL:PT1H
BEGIN:VTIMEZONE
TZID:America/Chicago
BEGIN:DAYLIGHT
TZOFFSETFROM:-0600
TZOFFSETTO:-0500
TZNAME:CDT
DTSTART:20250309T080000
END:DAYLIGHT
BEGIN:STANDARD
TZOFFSETFROM:-0500
TZOFFSETTO:-0600
TZNAME:CST
DTSTART:20251102T070000
END:STANDARD
BEGIN:DAYLIGHT
TZOFFSETFROM:-0600
TZOFFSETTO:-0500
TZNAME:CDT
DTSTART:20260308T080000
END:DAYLIGHT
BEGIN:STANDARD
TZOFFSETFROM:-0500
TZOFFSETTO:-0600
TZNAME:CST
DTSTART:20261101T070000
END:STANDARD
BEGIN:DAYLIGHT
TZOFFSETFROM:-0600
TZOFFSETTO:-0500
TZNAME:CDT
DTSTART:20270314T080000
END:DAYLIGHT
BEGIN:STANDARD
TZOFFSETFROM:-0500
TZOFFSETTO:-0600
TZNAME:CST
DTSTART:20271107T070000
END:STANDARD
END:VTIMEZONE
BEGIN:VEVENT
DTSTART;TZID=America/Chicago:20260313T190000
DTEND;TZID=America/Chicago:20260313T213000
DTSTAMP:20260421T042132
CREATED:20260310T190937Z
LAST-MODIFIED:20260310T190937Z
UID:10010352-1773428400-1773437400@hendersonky.org
SUMMARY:Uptown
DESCRIPTION:Fusing Bruno-Mars-caliber stage presence with top-tier vocals and wall-to-wall choreography\, the men of UPTOWN combine the smooth stylings of R&B with the fresh hits of today in a unique and modern show that gets every crowd on their feet!
URL:https://hendersonky.org/event/uptown/
LOCATION:Preston Arts Center\, 2660 S Green St\, Henderson\, KY\, 42420\, United States
CATEGORIES:Community Events,Featured Events
ATTACH;FMTTYPE=image/png:https://hendersonky.org/wp-content/uploads/2026/02/Uptown-e1773169764756.png
GEO:37.797129;-87.6525354
X-APPLE-STRUCTURED-LOCATION;VALUE=URI;X-ADDRESS=Preston Arts Center 2660 S Green St Henderson KY 42420 United States;X-APPLE-RADIUS=500;X-TITLE=2660 S Green St:geo:-87.6525354,37.797129
END:VEVENT
BEGIN:VEVENT
DTSTART;TZID=America/Chicago:20260301T123000
DTEND;TZID=America/Chicago:20260301T150000
DTSTAMP:20260421T042132
CREATED:20260205T212746Z
LAST-MODIFIED:20260205T212746Z
UID:10010298-1772368200-1772377200@hendersonky.org
SUMMARY:The Garden Gala Brunch Fundraiser for the Henderson Area Arts Alliance
DESCRIPTION:Support the arts in style at the Garden Gala Brunch\, where we’ll plant the seed to watch the magic of the arts grow! This event is not only a fundraiser for the Henderson Area Arts Alliance- your ticket price will include:\n* A three course plated brunch\, crafted by the food artists at Farmer & Frenchman* Live entertainment provided by a variety of local artists and performers* A donation to the Arts Alliance that will help sustain our mission of educating\, elevating and entertaining through inclusive arts experiences\nIf you’ve been looking for an elevated arts experience with great food and live entertainment\, this is it. Tickets are *very* limited for this event- grab your seats before they sell out! This will be a stylish event\, with recommended attire of florals\, pastels\, church/cocktail/derby wear!\nMore information about seating is available at our ticket page. Click on the ticket link on the Facebook event for more information!
URL:https://hendersonky.org/event/the-garden-gala-brunch-fundraiser-for-the-henderson-area-arts-alliance/
LOCATION:Farmer & Frenchman Winery & Cafe\, 12522 Highway 41 S\, Robards\, KY\, 42452\, United States
CATEGORIES:Community Events,Featured Events
ATTACH;FMTTYPE=image/jpeg:https://hendersonky.org/wp-content/uploads/2026/02/XDYmyY2eSMZxXUtTfNMExR-e1770326847294.jpg
GEO:37.7386469;-87.5316457
X-APPLE-STRUCTURED-LOCATION;VALUE=URI;X-ADDRESS=Farmer & Frenchman Winery & Cafe 12522 Highway 41 S Robards KY 42452 United States;X-APPLE-RADIUS=500;X-TITLE=12522 Highway 41 S:geo:-87.5316457,37.7386469
END:VEVENT
END:VCALENDAR